Package: rGREAT Version: 2.9.0 Command: /home/biocbuild/bbs-3.21-bioc/R/bin/R CMD INSTALL rGREAT StartedAt: 2025-02-19 15:57:00 -0500 (Wed, 19 Feb 2025) EndedAt: 2025-02-19 15:57:46 -0500 (Wed, 19 Feb 2025) EllapsedTime: 45.6 seconds RetCode: 0 Status: OK