Package: rGREAT Version: 2.9.0 Command: /Library/Frameworks/R.framework/Resources/bin/R CMD check --install=check:rGREAT.install-out.txt --library=/Library/Frameworks/R.framework/Resources/library --no-vignettes --timings rGREAT_2.9.0.tar.gz StartedAt: 2025-02-19 22:46:14 -0500 (Wed, 19 Feb 2025) EndedAt: 2025-02-19 22:51:52 -0500 (Wed, 19 Feb 2025) EllapsedTime: 338.1 seconds RetCode: 0 Status: OK CheckDir: rGREAT.Rcheck Warnings: 0