Package: rGREAT Version: 2.9.0 Command: /home/biocbuild/R/R/bin/R CMD check --install=check:rGREAT.install-out.txt --library=/home/biocbuild/R/R/site-library --no-vignettes --timings rGREAT_2.9.0.tar.gz StartedAt: 2025-01-28 14:30:42 -0000 (Tue, 28 Jan 2025) EndedAt: 2025-01-28 14:37:26 -0000 (Tue, 28 Jan 2025) EllapsedTime: 404.4 seconds RetCode: 0 Status: OK CheckDir: rGREAT.Rcheck Warnings: 0