Package: rGADEM Version: 2.55.0 Command: chmod a+r rGADEM -R && E:\biocbuild\bbs-3.21-bioc\R\bin\R.exe CMD build --keep-empty-dirs --no-resave-data rGADEM StartedAt: 2025-02-19 21:10:19 -0500 (Wed, 19 Feb 2025) EndedAt: 2025-02-19 21:13:13 -0500 (Wed, 19 Feb 2025) EllapsedTime: 173.4 seconds RetCode: 0 Status: OK PackageFile: rGADEM_2.55.0.tar.gz PackageFileSize: 225.2 KiB