Package: rGADEM Version: 2.55.0 Command: /home/biocbuild/bbs-3.21-bioc/R/bin/R CMD INSTALL rGADEM StartedAt: 2025-02-20 15:37:16 -0500 (Thu, 20 Feb 2025) EndedAt: 2025-02-20 15:37:57 -0500 (Thu, 20 Feb 2025) EllapsedTime: 41.3 seconds RetCode: 0 Status: OK