Package: rGADEM Version: 2.55.0 Command: /home/biocbuild/bbs-3.21-bioc/R/bin/R CMD check --install=check:rGADEM.install-out.txt --library=/home/biocbuild/bbs-3.21-bioc/R/site-library --timings rGADEM_2.55.0.tar.gz StartedAt: 2025-02-21 01:10:27 -0500 (Fri, 21 Feb 2025) EndedAt: 2025-02-21 01:15:28 -0500 (Fri, 21 Feb 2025) EllapsedTime: 300.6 seconds RetCode: 0 Status: WARNINGS CheckDir: rGADEM.Rcheck Warnings: 1