Package: rGADEM Version: 2.55.0 Command: /home/biocbuild/bbs-3.21-bioc/R/bin/R CMD build --keep-empty-dirs --no-resave-data rGADEM StartedAt: 2025-02-20 18:56:50 -0500 (Thu, 20 Feb 2025) EndedAt: 2025-02-20 18:58:17 -0500 (Thu, 20 Feb 2025) EllapsedTime: 86.1 seconds RetCode: 0 Status: OK PackageFile: rGADEM_2.55.0.tar.gz PackageFileSize: 376.9 KiB