Package: rGADEM Version: 2.55.0 Command: /Library/Frameworks/R.framework/Resources/bin/R CMD INSTALL rGADEM StartedAt: 2025-02-19 15:10:32 -0500 (Wed, 19 Feb 2025) EndedAt: 2025-02-19 15:10:52 -0500 (Wed, 19 Feb 2025) EllapsedTime: 19.7 seconds RetCode: 0 Status: OK