Package: rGADEM Version: 2.55.0 Command: /Library/Frameworks/R.framework/Resources/bin/R CMD build --keep-empty-dirs --no-resave-data rGADEM StartedAt: 2025-02-19 17:24:23 -0500 (Wed, 19 Feb 2025) EndedAt: 2025-02-19 17:24:52 -0500 (Wed, 19 Feb 2025) EllapsedTime: 29.3 seconds RetCode: 0 Status: OK PackageFile: rGADEM_2.55.0.tar.gz PackageFileSize: 376.9 KiB