Package: rBiopaxParser Version: 2.47.0 Command: E:\biocbuild\bbs-3.21-bioc\R\bin\R.exe CMD check --no-multiarch --install=check:rBiopaxParser.install-out.txt --library=E:\biocbuild\bbs-3.21-bioc\R\library --no-vignettes --timings rBiopaxParser_2.47.0.tar.gz StartedAt: 2025-02-21 04:48:04 -0500 (Fri, 21 Feb 2025) EndedAt: 2025-02-21 04:49:13 -0500 (Fri, 21 Feb 2025) EllapsedTime: 69.2 seconds RetCode: 0 Status: OK CheckDir: rBiopaxParser.Rcheck Warnings: 0