Package: rBiopaxParser Version: 2.47.0 Command: chmod a+r rBiopaxParser -R && E:\biocbuild\bbs-3.21-bioc\R\bin\R.exe CMD build --keep-empty-dirs --no-resave-data rBiopaxParser StartedAt: 2025-02-20 21:07:16 -0500 (Thu, 20 Feb 2025) EndedAt: 2025-02-20 21:07:35 -0500 (Thu, 20 Feb 2025) EllapsedTime: 18.6 seconds RetCode: 0 Status: OK PackageFile: rBiopaxParser_2.47.0.tar.gz PackageFileSize: 769.3 KiB