Package: rBiopaxParser Version: 2.47.0 Command: /home/biocbuild/bbs-3.21-bioc/R/bin/R CMD check --install=check:rBiopaxParser.install-out.txt --library=/home/biocbuild/bbs-3.21-bioc/R/site-library --timings rBiopaxParser_2.47.0.tar.gz StartedAt: 2025-02-21 01:01:06 -0500 (Fri, 21 Feb 2025) EndedAt: 2025-02-21 01:01:11 -0500 (Fri, 21 Feb 2025) EllapsedTime: 5.0 seconds RetCode: 1 Status: ERROR CheckDir: rBiopaxParser.Rcheck Warnings: NA