Package: rBiopaxParser Version: 2.47.0 Command: rm -rf rBiopaxParser.buildbin-libdir && mkdir rBiopaxParser.buildbin-libdir && /Users/biocbuild/BBS/utils/build-universal.sh rBiopaxParser_2.47.0.tar.gz /Library/Frameworks/R.framework/Resources/bin/R rBiopaxParser.buildbin-libdir StartedAt: 2025-02-21 00:47:36 -0500 (Fri, 21 Feb 2025) EndedAt: 2025-02-21 00:47:46 -0500 (Fri, 21 Feb 2025) EllapsedTime: 9.3 seconds RetCode: 0 Status: OK PackageFile: rBiopaxParser_2.47.0.tgz PackageFileSize: 861.4 KiB