Package: rBLAST Version: 1.3.1 Command: rm -rf rBLAST.buildbin-libdir && mkdir rBLAST.buildbin-libdir && E:\biocbuild\bbs-3.21-bioc\R\bin\R.exe CMD INSTALL --build --library=rBLAST.buildbin-libdir rBLAST_1.3.1.tar.gz StartedAt: 2025-02-20 08:31:56 -0500 (Thu, 20 Feb 2025) EndedAt: 2025-02-20 08:32:09 -0500 (Thu, 20 Feb 2025) EllapsedTime: 13.4 seconds RetCode: 0 Status: OK PackageFile: rBLAST_1.3.1.zip PackageFileSize: 54.17 KiB