Package: rBLAST Version: 1.3.1 Command: /Library/Frameworks/R.framework/Resources/bin/R CMD build --keep-empty-dirs --no-resave-data rBLAST StartedAt: 2025-02-19 17:55:25 -0500 (Wed, 19 Feb 2025) EndedAt: 2025-02-19 17:55:42 -0500 (Wed, 19 Feb 2025) EllapsedTime: 17.1 seconds RetCode: 0 Status: OK PackageFile: rBLAST_1.3.1.tar.gz PackageFileSize: 24.78 KiB