Package: r3Cseq Version: 1.53.0 Command: E:\biocbuild\bbs-3.21-bioc\R\bin\R.exe CMD INSTALL r3Cseq StartedAt: 2025-02-20 16:22:27 -0500 (Thu, 20 Feb 2025) EndedAt: 2025-02-20 16:23:51 -0500 (Thu, 20 Feb 2025) EllapsedTime: 84.0 seconds RetCode: 0 Status: OK