Package: r3Cseq Version: 1.53.0 Command: rm -rf r3Cseq.buildbin-libdir && mkdir r3Cseq.buildbin-libdir && E:\biocbuild\bbs-3.21-bioc\R\bin\R.exe CMD INSTALL --build --library=r3Cseq.buildbin-libdir r3Cseq_1.53.0.tar.gz StartedAt: 2025-02-21 08:50:37 -0500 (Fri, 21 Feb 2025) EndedAt: 2025-02-21 08:52:23 -0500 (Fri, 21 Feb 2025) EllapsedTime: 105.1 seconds RetCode: 0 Status: OK PackageFile: r3Cseq_1.53.0.zip PackageFileSize: 2.782 MiB