Package: r3Cseq Version: 1.53.0 Command: /home/biocbuild/bbs-3.21-bioc/R/bin/R CMD check --install=check:r3Cseq.install-out.txt --library=/home/biocbuild/bbs-3.21-bioc/R/site-library --timings r3Cseq_1.53.0.tar.gz StartedAt: 2025-02-21 00:58:34 -0500 (Fri, 21 Feb 2025) EndedAt: 2025-02-21 01:04:13 -0500 (Fri, 21 Feb 2025) EllapsedTime: 338.7 seconds RetCode: 0 Status: OK CheckDir: r3Cseq.Rcheck Warnings: 0