Package: r3Cseq Version: 1.53.0 Command: /Library/Frameworks/R.framework/Resources/bin/R CMD INSTALL r3Cseq StartedAt: 2025-02-20 15:09:42 -0500 (Thu, 20 Feb 2025) EndedAt: 2025-02-20 15:09:59 -0500 (Thu, 20 Feb 2025) EllapsedTime: 16.4 seconds RetCode: 0 Status: OK