Package: qusage Version: 2.41.0 Command: chmod a+r qusage -R && E:\biocbuild\bbs-3.21-bioc\R\bin\R.exe CMD build --keep-empty-dirs --no-resave-data qusage StartedAt: 2025-02-21 21:39:34 -0500 (Fri, 21 Feb 2025) EndedAt: 2025-02-21 21:47:00 -0500 (Fri, 21 Feb 2025) EllapsedTime: 445.1 seconds RetCode: 0 Status: OK PackageFile: qusage_2.41.0.tar.gz PackageFileSize: 9.5 MiB