Package: qusage Version: 2.41.0 Command: /home/biocbuild/bbs-3.21-bioc/R/bin/R CMD check --install=check:qusage.install-out.txt --library=/home/biocbuild/bbs-3.21-bioc/R/site-library --timings qusage_2.41.0.tar.gz StartedAt: 2025-02-21 00:57:48 -0500 (Fri, 21 Feb 2025) EndedAt: 2025-02-21 01:03:48 -0500 (Fri, 21 Feb 2025) EllapsedTime: 359.7 seconds RetCode: 0 Status: OK CheckDir: qusage.Rcheck Warnings: 0