Package: qusage Version: 2.41.0 Command: /home/biocbuild/bbs-3.21-bioc/R/bin/R CMD build --keep-empty-dirs --no-resave-data qusage StartedAt: 2025-02-20 18:49:54 -0500 (Thu, 20 Feb 2025) EndedAt: 2025-02-20 18:54:38 -0500 (Thu, 20 Feb 2025) EllapsedTime: 284.4 seconds RetCode: 0 Status: OK PackageFile: qusage_2.41.0.tar.gz PackageFileSize: 9.648 MiB