Package: qusage Version: 2.41.0 Command: /Library/Frameworks/R.framework/Resources/bin/R CMD INSTALL qusage StartedAt: 2025-02-20 15:03:40 -0500 (Thu, 20 Feb 2025) EndedAt: 2025-02-20 15:03:45 -0500 (Thu, 20 Feb 2025) EllapsedTime: 4.5 seconds RetCode: 0 Status: OK