Package: qusage Version: 2.41.0 Command: /Library/Frameworks/R.framework/Resources/bin/R CMD check --install=check:qusage.install-out.txt --library=/Library/Frameworks/R.framework/Resources/library --no-vignettes --timings qusage_2.41.0.tar.gz StartedAt: 2025-02-20 20:53:31 -0500 (Thu, 20 Feb 2025) EndedAt: 2025-02-20 20:54:06 -0500 (Thu, 20 Feb 2025) EllapsedTime: 34.5 seconds RetCode: 0 Status: OK CheckDir: qusage.Rcheck Warnings: 0