Package: qusage Version: 2.41.0 Command: /Library/Frameworks/R.framework/Resources/bin/R CMD build --keep-empty-dirs --no-resave-data qusage StartedAt: 2025-02-20 17:19:08 -0500 (Thu, 20 Feb 2025) EndedAt: 2025-02-20 17:21:48 -0500 (Thu, 20 Feb 2025) EllapsedTime: 159.8 seconds RetCode: 0 Status: OK PackageFile: qusage_2.41.0.tar.gz PackageFileSize: 9.67 MiB