Package: quantsmooth Version: 1.73.0 Command: E:\biocbuild\bbs-3.21-bioc\R\bin\R.exe CMD INSTALL quantsmooth StartedAt: 2025-02-20 15:56:49 -0500 (Thu, 20 Feb 2025) EndedAt: 2025-02-20 15:57:18 -0500 (Thu, 20 Feb 2025) EllapsedTime: 29.1 seconds RetCode: 0 Status: OK