Package: quantsmooth Version: 1.73.0 Command: rm -rf quantsmooth.buildbin-libdir && mkdir quantsmooth.buildbin-libdir && E:\biocbuild\bbs-3.21-bioc\R\bin\R.exe CMD INSTALL --build --library=quantsmooth.buildbin-libdir quantsmooth_1.73.0.tar.gz StartedAt: 2025-02-21 08:50:20 -0500 (Fri, 21 Feb 2025) EndedAt: 2025-02-21 08:50:32 -0500 (Fri, 21 Feb 2025) EllapsedTime: 12.9 seconds RetCode: 0 Status: OK PackageFile: quantsmooth_1.73.0.zip PackageFileSize: 315.6 KiB