Package: quantro Version: 1.41.0 Command: /home/biocbuild/bbs-3.21-bioc/R/bin/R CMD build --keep-empty-dirs --no-resave-data quantro StartedAt: 2025-02-20 18:49:33 -0500 (Thu, 20 Feb 2025) EndedAt: 2025-02-20 18:51:09 -0500 (Thu, 20 Feb 2025) EllapsedTime: 96.1 seconds RetCode: 0 Status: OK PackageFile: quantro_1.41.0.tar.gz PackageFileSize: 2.767 MiB