Package: quantro Version: 1.41.0 Command: /Library/Frameworks/R.framework/Resources/bin/R CMD INSTALL quantro StartedAt: 2025-02-19 15:27:15 -0500 (Wed, 19 Feb 2025) EndedAt: 2025-02-19 15:27:34 -0500 (Wed, 19 Feb 2025) EllapsedTime: 18.9 seconds RetCode: 0 Status: OK