Package: quantro Version: 1.41.0 Command: /Library/Frameworks/R.framework/Resources/bin/R CMD check --install=check:quantro.install-out.txt --library=/Library/Frameworks/R.framework/Resources/library --no-vignettes --timings quantro_1.41.0.tar.gz StartedAt: 2025-02-19 20:56:06 -0500 (Wed, 19 Feb 2025) EndedAt: 2025-02-19 20:58:20 -0500 (Wed, 19 Feb 2025) EllapsedTime: 133.7 seconds RetCode: 0 Status: OK CheckDir: quantro.Rcheck Warnings: 0