Package: quantro Version: 1.41.0 Command: rm -rf quantro.buildbin-libdir && mkdir quantro.buildbin-libdir && /Users/biocbuild/BBS/utils/build-universal.sh quantro_1.41.0.tar.gz /Library/Frameworks/R.framework/Resources/bin/R quantro.buildbin-libdir StartedAt: 2025-02-19 22:34:01 -0500 (Wed, 19 Feb 2025) EndedAt: 2025-02-19 22:34:21 -0500 (Wed, 19 Feb 2025) EllapsedTime: 20.5 seconds RetCode: 0 Status: OK PackageFile: quantro_1.41.0.tgz PackageFileSize: 3.132 MiB