Package: quantiseqr Version: 1.15.0 Command: /home/biocbuild/bbs-3.21-bioc/R/bin/R CMD check --install=check:quantiseqr.install-out.txt --library=/home/biocbuild/bbs-3.21-bioc/R/site-library --timings quantiseqr_1.15.0.tar.gz StartedAt: 2025-02-19 01:14:21 -0500 (Wed, 19 Feb 2025) EndedAt: 2025-02-19 01:18:23 -0500 (Wed, 19 Feb 2025) EllapsedTime: 241.4 seconds RetCode: 0 Status: OK CheckDir: quantiseqr.Rcheck Warnings: 0