Package: quantiseqr Version: 1.15.0 Command: /Library/Frameworks/R.framework/Resources/bin/R CMD INSTALL quantiseqr StartedAt: 2025-02-18 15:10:23 -0500 (Tue, 18 Feb 2025) EndedAt: 2025-02-18 15:10:53 -0500 (Tue, 18 Feb 2025) EllapsedTime: 29.9 seconds RetCode: 0 Status: OK