Package: quantiseqr Version: 1.15.0 Command: /Library/Frameworks/R.framework/Resources/bin/R CMD check --install=check:quantiseqr.install-out.txt --library=/Library/Frameworks/R.framework/Resources/library --no-vignettes --timings quantiseqr_1.15.0.tar.gz StartedAt: 2025-02-18 22:29:03 -0500 (Tue, 18 Feb 2025) EndedAt: 2025-02-18 22:33:33 -0500 (Tue, 18 Feb 2025) EllapsedTime: 270.5 seconds RetCode: 0 Status: OK CheckDir: quantiseqr.Rcheck Warnings: 0