Package: qsvaR Version: 1.11.1 Command: /Library/Frameworks/R.framework/Resources/bin/R CMD build --keep-empty-dirs --no-resave-data qsvaR StartedAt: 2025-02-19 17:53:15 -0500 (Wed, 19 Feb 2025) EndedAt: 2025-02-19 18:03:06 -0500 (Wed, 19 Feb 2025) EllapsedTime: 591.2 seconds RetCode: 0 Status: OK PackageFile: qsvaR_1.11.1.tar.gz PackageFileSize: 3.809 MiB