Package: qsvaR Version: 1.11.1 Command: /Library/Frameworks/R.framework/Resources/bin/R CMD check --install=check:qsvaR.install-out.txt --library=/Library/Frameworks/R.framework/Resources/library --no-vignettes --timings qsvaR_1.11.1.tar.gz StartedAt: 2025-02-19 20:55:37 -0500 (Wed, 19 Feb 2025) EndedAt: 2025-02-19 20:57:10 -0500 (Wed, 19 Feb 2025) EllapsedTime: 93.2 seconds RetCode: 0 Status: OK CheckDir: qsvaR.Rcheck Warnings: 0