Package: qsmooth Version: 1.23.0 Command: chmod a+r qsmooth -R && E:\biocbuild\bbs-3.21-bioc\R\bin\R.exe CMD build --keep-empty-dirs --no-resave-data qsmooth StartedAt: 2025-02-20 21:00:47 -0500 (Thu, 20 Feb 2025) EndedAt: 2025-02-20 21:03:10 -0500 (Thu, 20 Feb 2025) EllapsedTime: 142.5 seconds RetCode: 0 Status: OK PackageFile: qsmooth_1.23.0.tar.gz PackageFileSize: 769.9 KiB