Package: qsmooth Version: 1.23.0 Command: /home/biocbuild/bbs-3.21-bioc/R/bin/R CMD INSTALL qsmooth StartedAt: 2025-02-20 15:38:40 -0500 (Thu, 20 Feb 2025) EndedAt: 2025-02-20 15:39:11 -0500 (Thu, 20 Feb 2025) EllapsedTime: 31.2 seconds RetCode: 0 Status: OK