Package: qsea Version: 1.33.0 Command: chmod a+r qsea -R && E:\biocbuild\bbs-3.21-bioc\R\bin\R.exe CMD build --keep-empty-dirs --no-resave-data qsea StartedAt: 2025-02-20 21:00:45 -0500 (Thu, 20 Feb 2025) EndedAt: 2025-02-20 21:02:22 -0500 (Thu, 20 Feb 2025) EllapsedTime: 96.8 seconds RetCode: 0 Status: OK PackageFile: qsea_1.33.0.tar.gz PackageFileSize: 603.5 KiB