Package: qsea Version: 1.33.0 Command: /home/biocbuild/bbs-3.21-bioc/R/bin/R CMD build --keep-empty-dirs --no-resave-data qsea StartedAt: 2025-02-20 18:49:06 -0500 (Thu, 20 Feb 2025) EndedAt: 2025-02-20 18:50:16 -0500 (Thu, 20 Feb 2025) EllapsedTime: 70.1 seconds RetCode: 0 Status: OK PackageFile: qsea_1.33.0.tar.gz PackageFileSize: 859.5 KiB