Package: qsea Version: 1.33.0 Command: /Library/Frameworks/R.framework/Resources/bin/R CMD INSTALL qsea StartedAt: 2025-02-20 15:11:29 -0500 (Thu, 20 Feb 2025) EndedAt: 2025-02-20 15:11:43 -0500 (Thu, 20 Feb 2025) EllapsedTime: 14.7 seconds RetCode: 0 Status: OK