Package: qsea Version: 1.33.0 Command: rm -rf qsea.buildbin-libdir && mkdir qsea.buildbin-libdir && /Users/biocbuild/BBS/utils/build-universal.sh qsea_1.33.0.tar.gz /Library/Frameworks/R.framework/Resources/bin/R qsea.buildbin-libdir StartedAt: 2025-02-20 22:30:43 -0500 (Thu, 20 Feb 2025) EndedAt: 2025-02-20 22:30:59 -0500 (Thu, 20 Feb 2025) EllapsedTime: 16.3 seconds RetCode: 0 Status: OK PackageFile: qsea_1.33.0.tgz PackageFileSize: 1.113 MiB