Package: qpgraph Version: 2.41.0 Command: chmod a+r qpgraph -R && E:\biocbuild\bbs-3.21-bioc\R\bin\R.exe CMD build --keep-empty-dirs --no-resave-data qpgraph StartedAt: 2025-02-19 20:57:10 -0500 (Wed, 19 Feb 2025) EndedAt: 2025-02-19 20:59:41 -0500 (Wed, 19 Feb 2025) EllapsedTime: 151.4 seconds RetCode: 0 Status: OK PackageFile: qpgraph_2.41.0.tar.gz PackageFileSize: 2.701 MiB