Package: qpgraph Version: 2.41.0 Command: rm -rf qpgraph.buildbin-libdir && mkdir qpgraph.buildbin-libdir && E:\biocbuild\bbs-3.21-bioc\R\bin\R.exe CMD INSTALL --build --library=qpgraph.buildbin-libdir qpgraph_2.41.0.tar.gz StartedAt: 2025-02-20 08:29:46 -0500 (Thu, 20 Feb 2025) EndedAt: 2025-02-20 08:31:34 -0500 (Thu, 20 Feb 2025) EllapsedTime: 108.0 seconds RetCode: 0 Status: OK PackageFile: qpgraph_2.41.0.zip PackageFileSize: 4.099 MiB