Package: qpgraph Version: 2.41.0 Maintainer: Robert Castelo MaintainerEmail: robert.castelo at upf.edu git_url: https://git.bioconductor.org/packages/qpgraph git_branch: devel git_last_commit: 0c2005f git_last_commit_date: 2025-02-01 03:50:08 -0500 (Sat, 01 Feb 2025)