Package: qpcrNorm Version: 1.65.0 Command: /home/biocbuild/bbs-3.21-bioc/R/bin/R CMD INSTALL qpcrNorm StartedAt: 2025-02-19 15:13:07 -0500 (Wed, 19 Feb 2025) EndedAt: 2025-02-19 15:13:12 -0500 (Wed, 19 Feb 2025) EllapsedTime: 4.6 seconds RetCode: 0 Status: OK