Package: qpcrNorm Version: 1.65.0 Command: /home/biocbuild/bbs-3.21-bioc/R/bin/R CMD build --keep-empty-dirs --no-resave-data qpcrNorm StartedAt: 2025-02-19 18:44:08 -0500 (Wed, 19 Feb 2025) EndedAt: 2025-02-19 18:44:16 -0500 (Wed, 19 Feb 2025) EllapsedTime: 8.0 seconds RetCode: 0 Status: OK PackageFile: qpcrNorm_1.65.0.tar.gz PackageFileSize: 549.6 KiB