Package: qpcrNorm Version: 1.65.0 Command: rm -rf qpcrNorm.buildbin-libdir && mkdir qpcrNorm.buildbin-libdir && /Users/biocbuild/BBS/utils/build-universal.sh qpcrNorm_1.65.0.tar.gz /Library/Frameworks/R.framework/Resources/bin/R qpcrNorm.buildbin-libdir StartedAt: 2025-02-21 00:46:46 -0500 (Fri, 21 Feb 2025) EndedAt: 2025-02-21 00:46:54 -0500 (Fri, 21 Feb 2025) EllapsedTime: 8.0 seconds RetCode: 0 Status: OK PackageFile: qpcrNorm_1.65.0.tgz PackageFileSize: 598.7 KiB