Package: qcmetrics Version: 1.45.0 Command: rm -rf qcmetrics.buildbin-libdir && mkdir qcmetrics.buildbin-libdir && E:\biocbuild\bbs-3.21-bioc\R\bin\R.exe CMD INSTALL --build --library=qcmetrics.buildbin-libdir qcmetrics_1.45.0.tar.gz StartedAt: 2025-02-21 08:49:16 -0500 (Fri, 21 Feb 2025) EndedAt: 2025-02-21 08:50:02 -0500 (Fri, 21 Feb 2025) EllapsedTime: 45.6 seconds RetCode: 0 Status: OK PackageFile: qcmetrics_1.45.0.zip PackageFileSize: 4.074 MiB