Package: qcmetrics Version: 1.45.0 Command: /home/biocbuild/bbs-3.21-bioc/R/bin/R CMD check --install=check:qcmetrics.install-out.txt --library=/home/biocbuild/bbs-3.21-bioc/R/site-library --timings qcmetrics_1.45.0.tar.gz StartedAt: 2025-02-21 00:53:27 -0500 (Fri, 21 Feb 2025) EndedAt: 2025-02-21 00:55:04 -0500 (Fri, 21 Feb 2025) EllapsedTime: 97.1 seconds RetCode: 0 Status: OK CheckDir: qcmetrics.Rcheck Warnings: 0